BEGIN:VCALENDAR
VERSION:2.0
PRODID:-//Ev. Kirchengemeinde Mariendorf Süd - ECPv6.15.13//NONSGML v1.0//EN
CALSCALE:GREGORIAN
METHOD:PUBLISH
X-ORIGINAL-URL:https://www.mariendorf-sued.de
X-WR-CALDESC:Veranstaltungen für Ev. Kirchengemeinde Mariendorf Süd
REFRESH-INTERVAL;VALUE=DURATION:PT1H
X-Robots-Tag:noindex
X-PUBLISHED-TTL:PT1H
BEGIN:VTIMEZONE
TZID:Europe/Berlin
BEGIN:DAYLIGHT
TZOFFSETFROM:+0100
TZOFFSETTO:+0200
TZNAME:CEST
DTSTART:20220327T010000
END:DAYLIGHT
BEGIN:STANDARD
TZOFFSETFROM:+0200
TZOFFSETTO:+0100
TZNAME:CET
DTSTART:20221030T010000
END:STANDARD
BEGIN:DAYLIGHT
TZOFFSETFROM:+0100
TZOFFSETTO:+0200
TZNAME:CEST
DTSTART:20230326T010000
END:DAYLIGHT
BEGIN:STANDARD
TZOFFSETFROM:+0200
TZOFFSETTO:+0100
TZNAME:CET
DTSTART:20231029T010000
END:STANDARD
BEGIN:DAYLIGHT
TZOFFSETFROM:+0100
TZOFFSETTO:+0200
TZNAME:CEST
DTSTART:20240331T010000
END:DAYLIGHT
BEGIN:STANDARD
TZOFFSETFROM:+0200
TZOFFSETTO:+0100
TZNAME:CET
DTSTART:20241027T010000
END:STANDARD
END:VTIMEZONE
BEGIN:VEVENT
DTSTART;TZID=Europe/Berlin:20231224T130000
DTEND;TZID=Europe/Berlin:20231224T140000
DTSTAMP:20260422T103955
CREATED:20231210T144843Z
LAST-MODIFIED:20231210T144844Z
UID:11035-1703422800-1703426400@www.mariendorf-sued.de
SUMMARY:Internationaler Gottesdienst mit Gospel
DESCRIPTION:CHRISTMAS EVE GOSPEL SERVICE with Kirk Smith\, Monica Lewis & musicians \n\n\n\nDo you have family from abroad visiting for Christmas? Join us for an international Christmas service on Christmas Eve at 1 pm. Amazing gospel singer Kirk Smith and team will make sure to warm up our hearts to celebrate Christmas in the spirit of love \,tolerance and compassion. \n\n\n\nThere will be an opportunity for the children to create a last-minute surprise for their parents\, and we will be singing “Silent Night” in at least 4 different languages: English\, German\, Spanish\, and Danish. Your language is missing here? Feel free to contact us\, and we will do our best to add it to the list.  \n\n\n\nWe wish you a blessed Christmas! \n\n\n\nPastor Marika David
URL:https://www.mariendorf-sued.de/event/internationaler-gottesdienst-mit-gospel/
LOCATION:Kirche Ev. Gemeinde Mariendorf-Süd\, Mariendorfer Damm 342\, Berlin\, 12107\, Germany
CATEGORIES:Gottesdienst
ATTACH;FMTTYPE=image/jpeg:https://www.mariendorf-sued.de/wp-content/uploads/2023/12/XMAS_Gpspel_2023_head.jpg
END:VEVENT
END:VCALENDAR